BEGIN:VCALENDAR
VERSION:2.0
PRODID:-//ChamberMaster//Event Calendar 2.0//EN
METHOD:PUBLISH
X-PUBLISHED-TTL:P3D
REFRESH-INTERVAL:P3D
CALSCALE:GREGORIAN
BEGIN:VEVENT
DTSTART:20261120T223000Z
DTEND:20261121T013000Z
X-MICROSOFT-CDO-ALLDAYEVENT:FALSE
SUMMARY:2026 Chamber Christmas Walk Presented by Citizens State Bank
DESCRIPTION:Chamber Christmas Walk & City Tree Lighting Celebration\n\nThe New Castle?Henry County Chamber of Commerce is proud to partner with the City of New Castle to celebrate the lighting of the community Christmas tree at 1400 Plaza\, alongside our beloved Chamber Christmas Walk.\n\nStep into the wonder of the season at the Chamber Christmas Walk\, presented by Citizens State Bank a cherished community tradition that transforms downtown New Castle into a festive winter wonderland for one unforgettable evening.\n\nStroll through the twinkling streets of downtown and take in the sights\, sounds\, and spirit of Christmas as local shops\, businesses\, and community organizations come together to celebrate the season. From holiday d cor and cheerful storefronts to special activities and seasonal surprises\, this event captures the magic of Christmas in the heart of our community.\n\nThe evening?s festivities will also include the official City of New Castle Christmas tree lighting at 1400 Plaza\, bringing neighbors\, families\, and friends together to kick off the holiday season in a joyful and meaningful way.\n\nThe Chamber Christmas Walk is a family-friendly event designed to celebrate community\, tradition\, and the joy of the holidays. We invite you to join us downtown to make memories\, support local businesses\, and experience the magic of Christmas in New Castle.\n\n  Experience the Magic:\n\nThe Christmas Walk spans up Broad Street from 11th Street to 15th Street\, up 14th Street\, and along Main Street to Central\, creating a festive path filled with holiday lights\, decorations\, and joyful activities. Enjoy horse-drawn trolley rides\, visits with Santa\, beautiful holiday lights and decorations\, festive music at the plaza and at Broad and Main\, delicious food\, and unique craft vendors offering the perfect gifts for everyone on your list. The air will be filled with laughter\, joy\, and the true spirit of community.\n\n\n\nMake the evening truly unforgettable with festive photo spots set up throughout the Christmas Walk! Families\, friends\, and visitors of all ages can stop along the route?to snap memorable holiday photos surrounded by sparkling lights\, decorations\, and seasonal backdrops. Whether it?s a picture with Santa\, a group photo by the beautifully decorated sponsored backdrops\, or a candid moment enjoying the festivities\, these photo spots are perfect for creating keepsakes that last a lifetime.\n\n  Be a Part of the Celebration:\n\nWe are now accepting vendor registrations?just $35 per vendor spot! Showcase your products\, crafts\, or treats to hundreds of visitors as they enjoy this cherished holiday event. Last day to register is Friday\, November 6\, 2026\n\n  Sponsorship Opportunities Available:\n\nSupport this magical evening and highlight your business or organization by becoming a Christmas Walk sponsor. Sponsorship levels and benefits are outlined in the Fees & Sponsorship section. Your partnership helps keep this cherished event free and festive for all to enjoy.\n\nJoin us for an evening where the entire community comes together to celebrate the season\, share smiles\, and make memories that last a lifetime.\n\nFriday\, November 20\, 2026 | 5:30?8:30 PM\n\nDowntown New Castle\, Indiana
X-ALT-DESC;FMTTYPE=text/html:<p data-end="305" data-start="246"><strong data-end="305" data-start="246">Chamber Christmas Walk &amp\; City Tree Lighting Celebration</strong></p>\n\n<p data-end="552" data-start="307">The New Castle?Henry County Chamber of Commerce is proud to partner with the <strong data-end="425" data-start="384">City of New Castle</strong> to celebrate the <strong data-end="501" data-start="443">lighting of the community Christmas tree at 1400 Plaza</strong>\, alongside our beloved <strong data-end="551" data-start="525">Chamber Christmas Walk</strong>.</p>\n\n<p data-end="806" data-start="554">Step into the wonder of the season at the <strong data-end="674" data-start="596">Chamber Christmas Walk\, presented by <span class="hover:entity-accent entity-underline inline cursor-pointer align-baseline"><span class="whitespace-normal">Citizens State Bank&nbsp\;</span></span></strong>a cherished community tradition that transforms downtown New Castle into a festive winter wonderland for one unforgettable evening.</p>\n\n<p data-end="1171" data-start="808">Stroll through the twinkling streets of downtown and take in the sights\, sounds\, and spirit of Christmas as local shops\, businesses\, and community organizations come together to celebrate the season. From holiday d&eacute\;cor and cheerful storefronts to special activities and seasonal surprises\, this event captures the magic of Christmas in the heart of our community.</p>\n\n<p data-end="1405" data-start="1173">The evening?s festivities will also include the official <strong data-end="1290" data-start="1230">City of New Castle Christmas tree lighting at 1400 Plaza</strong>\, bringing neighbors\, families\, and friends together to kick off the holiday season in a joyful and meaningful way.</p>\n\n<p data-end="1664" data-start="1407">The Chamber Christmas Walk is a family-friendly event designed to celebrate community\, tradition\, and the joy of the holidays. We invite you to join us downtown to make memories\, support local businesses\, and experience the magic of Christmas in New Castle.</p>\n\n<p data-end="908" data-start="559">&#10024\; <strong data-end="586" data-start="561">Experience the Magic:</strong><br data-end="589" data-start="586" />\nThe Christmas Walk spans up B<strong>road&nbsp\;Street from</strong>&nbsp\;<strong data-end="645" data-start="576">11th Street to 15th Street\, up 14th Street\, and along Main Street to Central</strong>\, creating a festive path filled with <strong data-end="737" data-start="683">holiday lights\, decorations\, and joyful activities.&nbsp\;</strong>Enjoy <strong data-end="624" data-start="595">horse-drawn trolley rides</strong>\, visits with <strong data-end="647" data-start="638">Santa</strong>\, beautiful <strong data-end="693" data-start="659">holiday lights and decorations</strong>\, festive <strong data-end="725" data-start="703">music at the plaza and at Broad and Main</strong>\, <strong data-end="745" data-start="727">delicious food</strong>\, and <strong data-end="775" data-start="751">unique craft vendors</strong> offering the perfect gifts for everyone on your list. The air will be filled with laughter\, joy\, and the true spirit of community.<br />\n<br />\nMake the evening truly unforgettable with <strong data-end="168" data-start="145">festive photo spots</strong> set up throughout the Christmas Walk!&nbsp\;Families\, friends\, and visitors of all ages can stop along the route?to snap <strong data-end="387" data-start="359">memorable holiday photos</strong> surrounded by sparkling lights\, decorations\, and seasonal backdrops. Whether it?s a picture with Santa\, a group photo by the beautifully decorated sponsored backdrops\, or a candid moment enjoying the festivities\, these photo spots are perfect for creating keepsakes that last a lifetime.</p>\n\n<p data-end="1136" data-start="910">&#127873\; <strong data-end="946" data-start="913">Be a Part of the Celebration:</strong><br data-end="949" data-start="946" />\nWe are now accepting <strong data-end="994" data-start="970">vendor registrations</strong>?just <strong data-end="1023" data-start="1000">$35 per vendor spot</strong>! Showcase your products\, crafts\, or treats to hundreds of visitors as they enjoy this cherished holiday event. Last day to register is Friday\, November 6\, 2026</p>\n\n<p data-end="1468" data-start="1138">&#127775\; <strong data-end="1181" data-start="1141">Sponsorship Opportunities Available:</strong><br data-end="1184" data-start="1181" />\nSupport this magical evening and highlight your business or organization by becoming a <strong data-end="1297" data-start="1271">Christmas Walk sponsor</strong>. Sponsorship levels and benefits are outlined in the <strong data-end="1373" data-start="1351">Fees &amp\; Sponsorship</strong> section. Your partnership helps keep this cherished event free and festive for all to enjoy.</p>\n\n<p data-end="1615" data-start="1470">Join us for an evening where the entire community comes together to celebrate the season\, share smiles\, and make memories that last a lifetime.</p>\n\n<p data-end="1705" data-start="1617"><strong data-end="1665" data-start="1617">Friday\, November 20\, 2026 | 5:30?8:30 PM</strong><br data-end="1668" data-start="1665" />\n<strong data-end="1703" data-start="1668">Downtown New Castle\, Indiana</strong><br />\n&nbsp\;</p>\n
LOCATION:Beautiful Downtown New Castle\, IN 47362
UID:e.1351.1875
SEQUENCE:3
DTSTAMP:20260422T055608Z
URL:https://business.nchcchamber.com/events/details/2026-chamber-christmas-walk-presented-by-citizens-state-bank-1875
END:VEVENT

END:VCALENDAR
