BEGIN:VCALENDAR
VERSION:2.0
PRODID:-//ChamberMaster//Event Calendar 2.0//EN
METHOD:PUBLISH
X-PUBLISHED-TTL:P3D
REFRESH-INTERVAL:P3D
CALSCALE:GREGORIAN
BEGIN:VEVENT
DTSTART:20201208T130000Z
DTEND:20201208T140000Z
X-MICROSOFT-CDO-ALLDAYEVENT:FALSE
SUMMARY:Chamber Ambassador's Meeting
DESCRIPTION:All Chamber Ambassador meetings are on hold until further notice due to COVID-19.\n\n\n\nThe Chamber Ambassadors meet monthly. They are our retired professionals who serve the Chamber in a support role by hosting ribbon cuttings and upgrade celebrations for our members. They also volunteer at Chamber events. Membership in the Ambassador's club is free and open to anyone who is retired and living in Henry County.
X-ALT-DESC;FMTTYPE=text/html:<span style="color: rgb(51\, 51\, 51)\; font-family: sans-serif\, Arial\, Verdana\, &quot\;Trebuchet MS&quot\;\; font-size: 13px\; background-color: rgb(255\, 255\, 255)\;">All Chamber Ambassador meetings are on hold until further notice due to COVID-19.</span><br />\n<br />\nThe Chamber Ambassadors meet monthly. They are our retired professionals who serve the Chamber in a support role by hosting ribbon cuttings and upgrade celebrations for our members. They also volunteer at Chamber events. Membership in the Ambassador&#39\;s club is free and open to anyone who is retired and living in Henry County.
LOCATION:The Ambassadors meet at Glean Oaks Health Campus to enjoy breakfast\, a speaker\, and fellowship.
UID:e.1351.1060
SEQUENCE:3
DTSTAMP:20260422T051558Z
URL:https://business.nchcchamber.com/events/details/chamber-ambassador-s-meeting-12-08-2020-1060
END:VEVENT

END:VCALENDAR
